BEGIN:VCALENDAR
VERSION:2.0
PRODID:-//Hospitality Titans - ECPv6.15.17.1//NONSGML v1.0//EN
CALSCALE:GREGORIAN
METHOD:PUBLISH
X-WR-CALNAME:Hospitality Titans
X-ORIGINAL-URL:https://hospitalitytitans.co.uk
X-WR-CALDESC:Events for Hospitality Titans
REFRESH-INTERVAL;VALUE=DURATION:PT1H
X-Robots-Tag:noindex
X-PUBLISHED-TTL:PT1H
BEGIN:VTIMEZONE
TZID:Europe/London
BEGIN:DAYLIGHT
TZOFFSETFROM:+0000
TZOFFSETTO:+0100
TZNAME:BST
DTSTART:20250330T010000
END:DAYLIGHT
BEGIN:STANDARD
TZOFFSETFROM:+0100
TZOFFSETTO:+0000
TZNAME:GMT
DTSTART:20251026T010000
END:STANDARD
BEGIN:DAYLIGHT
TZOFFSETFROM:+0000
TZOFFSETTO:+0100
TZNAME:BST
DTSTART:20260329T010000
END:DAYLIGHT
BEGIN:STANDARD
TZOFFSETFROM:+0100
TZOFFSETTO:+0000
TZNAME:GMT
DTSTART:20261025T010000
END:STANDARD
BEGIN:DAYLIGHT
TZOFFSETFROM:+0000
TZOFFSETTO:+0100
TZNAME:BST
DTSTART:20270328T010000
END:DAYLIGHT
BEGIN:STANDARD
TZOFFSETFROM:+0100
TZOFFSETTO:+0000
TZNAME:GMT
DTSTART:20271031T010000
END:STANDARD
END:VTIMEZONE
BEGIN:VEVENT
DTSTART;TZID=Europe/London:20260430T130000
DTEND;TZID=Europe/London:20260430T160000
DTSTAMP:20260421T211451
CREATED:20260219T104205Z
LAST-MODIFIED:20260319T111729Z
UID:20000154-1777554000-1777564800@hospitalitytitans.co.uk
SUMMARY:Directors’ Lunch
DESCRIPTION:Directors’ Lunch \nJoin us for an exclusive Directors’ Lunch\, bringing together hospitality leaders for an afternoon of exceptional food\, thoughtful conversation\, and meaningful industry connections. \n📅 Date: Thursday\, 30 April ⏰ Time: 1:00 PM – 4:00 PM📍 Location: Mareida\, 160a Great Portland St\, London\, W1W 5QA \nHosted in partnership with Gallagher\, this intimate gathering is designed to foster collaboration\, encourage open dialogue\, and provide a space for senior professionals to exchange insights on the opportunities and challenges shaping our industry. \nSet in a refined setting\, the lunch provides a valuable opportunity to step away from daily operations and engage in meaningful conversations shaping the future of hospitality. \nAttendance is limited to keep the lunch relaxed\, engaging\, and valuable for everyone attending. \nSpaces are limited so book your spot now!
URL:https://hospitalitytitans.co.uk/event/directors-lunch-4/
LOCATION:Mareida\, 160a Great Portland St\, London\, W1W 5QA
ATTACH;FMTTYPE=image/png:https://hospitalitytitans.co.uk/wp-content/uploads/2026/02/Hospitality-Titans-Instagram-posts-4.png
END:VEVENT
END:VCALENDAR