BEGIN:VCALENDAR
VERSION:2.0
PRODID:-//Hospitality Titans - ECPv6.15.17.1//NONSGML v1.0//EN
CALSCALE:GREGORIAN
METHOD:PUBLISH
X-WR-CALNAME:Hospitality Titans
X-ORIGINAL-URL:https://hospitalitytitans.co.uk
X-WR-CALDESC:Events for Hospitality Titans
REFRESH-INTERVAL;VALUE=DURATION:PT1H
X-Robots-Tag:noindex
X-PUBLISHED-TTL:PT1H
BEGIN:VTIMEZONE
TZID:Europe/London
BEGIN:DAYLIGHT
TZOFFSETFROM:+0000
TZOFFSETTO:+0100
TZNAME:BST
DTSTART:20240331T010000
END:DAYLIGHT
BEGIN:STANDARD
TZOFFSETFROM:+0100
TZOFFSETTO:+0000
TZNAME:GMT
DTSTART:20241027T010000
END:STANDARD
BEGIN:DAYLIGHT
TZOFFSETFROM:+0000
TZOFFSETTO:+0100
TZNAME:BST
DTSTART:20250330T010000
END:DAYLIGHT
BEGIN:STANDARD
TZOFFSETFROM:+0100
TZOFFSETTO:+0000
TZNAME:GMT
DTSTART:20251026T010000
END:STANDARD
BEGIN:DAYLIGHT
TZOFFSETFROM:+0000
TZOFFSETTO:+0100
TZNAME:BST
DTSTART:20260329T010000
END:DAYLIGHT
BEGIN:STANDARD
TZOFFSETFROM:+0100
TZOFFSETTO:+0000
TZNAME:GMT
DTSTART:20261025T010000
END:STANDARD
END:VTIMEZONE
BEGIN:VEVENT
DTSTART;TZID=Europe/London:20250422T180000
DTEND;TZID=Europe/London:20250422T210000
DTSTAMP:20260422T161018
CREATED:20250321T140337Z
LAST-MODIFIED:20250321T142818Z
UID:20000124-1745344800-1745355600@hospitalitytitans.co.uk
SUMMARY:Competitive Networking in partnership with Gamechangers
DESCRIPTION:Join us for a fun-filled evening of competitive networking in partnership with Gamechangers at Roxy Ball Room\, a brand new venue in London! Enjoy a vibrant atmosphere with games\, nibbles\, and drinks while making valuable connections. Plus\, you’ll have the chance to win a full Roxy Bottomless Brunch for 2! \nDate & Time: \nTuesday\, 22nd April6:00 PM – 9:00 PM \nWhat’s Included: \n\nWelcome Prosecco Reception\n3 Drinks Tokens (Beer/Wine/Soft Drinks)\nSelection of Sharing Dishes Throughout the Evening\nCompetition to Win a Full Roxy Bottomless Brunch for 2 (Drawn at the End of the Night)\n\nWe can’t wait to see you there!
URL:https://hospitalitytitans.co.uk/event/competitive-networking-in-partnership-with-gamechangers/
LOCATION:Roxy Ball Room London\, Roxy Ball Room London\,33 St Mary Axe\, London\, EC3A 8AA
ATTACH;FMTTYPE=image/png:https://hospitalitytitans.co.uk/wp-content/uploads/2025/03/Hospitality-Titans-Instagram-posts-6-1.png
ORGANIZER;CN="Hospitality Titans":MAILTO:membership@hospitalitytitans.co.uk
END:VEVENT
BEGIN:VEVENT
DTSTART;TZID=Europe/London:20250429T180000
DTEND;TZID=Europe/London:20250429T210000
DTSTAMP:20260422T161018
CREATED:20250321T142455Z
LAST-MODIFIED:20250401T115114Z
UID:20000125-1745949600-1745960400@hospitalitytitans.co.uk
SUMMARY:The Boardroom Banquet
DESCRIPTION:Join us for The Boardroom Banquet – a premium dining event designed to bring together directors\, decision-makers\, and senior leaders from across the industry. This is more than just dinner; it’s an opportunity to connect\, collaborate and share insights with like-minded professionals in an intimate and elegant setting. \nWhat to Expect: \n\nA luxurious three-course menu curated by top chefs\nHand-selected wines paired with each course\nA refined private dining atmosphere\nNetworking with influential leaders and industry peers\nThought-provoking conversation and potential collaborations\n\nWhether you’re looking to build new relationships\, strengthen existing ones\, or simply enjoy an exceptional dining experience among fellow directors\, The Boardroom Banquet promises an evening to remember.
URL:https://hospitalitytitans.co.uk/event/the-boardroom-banquet/
LOCATION:Hawksmoor Guildhall\, 10 Basinghall St\, London\, EC2V 5BQ\, United Kingdom
ATTACH;FMTTYPE=image/png:https://hospitalitytitans.co.uk/wp-content/uploads/2025/03/Hospitality-Titans-Instagram-posts-copy.png
ORGANIZER;CN="Hospitality Titans":MAILTO:membership@hospitalitytitans.co.uk
END:VEVENT
END:VCALENDAR