BEGIN:VCALENDAR
VERSION:2.0
PRODID:-//Hospitality Titans - ECPv6.15.17.1//NONSGML v1.0//EN
CALSCALE:GREGORIAN
METHOD:PUBLISH
X-ORIGINAL-URL:https://hospitalitytitans.co.uk
X-WR-CALDESC:Events for Hospitality Titans
REFRESH-INTERVAL;VALUE=DURATION:PT1H
X-Robots-Tag:noindex
X-PUBLISHED-TTL:PT1H
BEGIN:VTIMEZONE
TZID:Europe/London
BEGIN:DAYLIGHT
TZOFFSETFROM:+0000
TZOFFSETTO:+0100
TZNAME:BST
DTSTART:20240331T010000
END:DAYLIGHT
BEGIN:STANDARD
TZOFFSETFROM:+0100
TZOFFSETTO:+0000
TZNAME:GMT
DTSTART:20241027T010000
END:STANDARD
BEGIN:DAYLIGHT
TZOFFSETFROM:+0000
TZOFFSETTO:+0100
TZNAME:BST
DTSTART:20250330T010000
END:DAYLIGHT
BEGIN:STANDARD
TZOFFSETFROM:+0100
TZOFFSETTO:+0000
TZNAME:GMT
DTSTART:20251026T010000
END:STANDARD
BEGIN:DAYLIGHT
TZOFFSETFROM:+0000
TZOFFSETTO:+0100
TZNAME:BST
DTSTART:20260329T010000
END:DAYLIGHT
BEGIN:STANDARD
TZOFFSETFROM:+0100
TZOFFSETTO:+0000
TZNAME:GMT
DTSTART:20261025T010000
END:STANDARD
END:VTIMEZONE
BEGIN:VEVENT
DTSTART;TZID=Europe/London:20250325T180000
DTEND;TZID=Europe/London:20250325T210000
DTSTAMP:20260422T173148
CREATED:20250220T121155Z
LAST-MODIFIED:20250311T131834Z
UID:20000123-1742925600-1742936400@hospitalitytitans.co.uk
SUMMARY:Titans Talk:The Future of Hospitality Recruitment: Attracting\, Retaining & Developing Talent
DESCRIPTION:The hospitality industry is facing ongoing challenges in recruitment\, retention\, and skills development. Our panel will explore what businesses need to do to not only attract the best talent but also retain and develop them into future industry leaders. \n📍 Join us at Caravan in Covent Garden on 25th March from 6 PM to 9 PM. \nKey Topics:\n•⁠ ⁠How to make hospitality an attractive long-term career choice•⁠ ⁠The role of apprenticeships and training programmes in developing talent•⁠ ⁠Supporting career progression: Upskilling\, mentorship\, and leadership development•⁠ ⁠Employee engagement strategies that actually work•⁠ ⁠How technology and AI are shaping hospitality careers \n🚀 You’re not gonna want to miss this event!
URL:https://hospitalitytitans.co.uk/event/march-2025/
LOCATION:Caravan Covent Garden\, 30-35 Drury Ln\, London\, WC2B 5RH
ATTACH;FMTTYPE=image/png:https://hospitalitytitans.co.uk/wp-content/uploads/2025/02/Venue.png
ORGANIZER;CN="Hospitality Titans":MAILTO:membership@hospitalitytitans.co.uk
END:VEVENT
END:VCALENDAR