BEGIN:VCALENDAR
VERSION:2.0
PRODID:-//Hospitality Titans - ECPv6.15.17.1//NONSGML v1.0//EN
CALSCALE:GREGORIAN
METHOD:PUBLISH
X-ORIGINAL-URL:https://hospitalitytitans.co.uk
X-WR-CALDESC:Events for Hospitality Titans
REFRESH-INTERVAL;VALUE=DURATION:PT1H
X-Robots-Tag:noindex
X-PUBLISHED-TTL:PT1H
BEGIN:VTIMEZONE
TZID:Europe/London
BEGIN:DAYLIGHT
TZOFFSETFROM:+0000
TZOFFSETTO:+0100
TZNAME:BST
DTSTART:20230326T010000
END:DAYLIGHT
BEGIN:STANDARD
TZOFFSETFROM:+0100
TZOFFSETTO:+0000
TZNAME:GMT
DTSTART:20231029T010000
END:STANDARD
BEGIN:DAYLIGHT
TZOFFSETFROM:+0000
TZOFFSETTO:+0100
TZNAME:BST
DTSTART:20240331T010000
END:DAYLIGHT
BEGIN:STANDARD
TZOFFSETFROM:+0100
TZOFFSETTO:+0000
TZNAME:GMT
DTSTART:20241027T010000
END:STANDARD
BEGIN:DAYLIGHT
TZOFFSETFROM:+0000
TZOFFSETTO:+0100
TZNAME:BST
DTSTART:20250330T010000
END:DAYLIGHT
BEGIN:STANDARD
TZOFFSETFROM:+0100
TZOFFSETTO:+0000
TZNAME:GMT
DTSTART:20251026T010000
END:STANDARD
END:VTIMEZONE
BEGIN:VEVENT
DTSTART;TZID=Europe/London:20241127T173000
DTEND;TZID=Europe/London:20241127T203000
DTSTAMP:20260422T165336
CREATED:20241119T162314Z
LAST-MODIFIED:20241121T122917Z
UID:20000114-1732728600-1732739400@hospitalitytitans.co.uk
SUMMARY:Whisky Masterclass by The Lakes Distillery
DESCRIPTION:Experience the art of whisky like never before with an exclusive Whisky Masterclass at Sibin\, hosted by The Lakes Distillery. Set within the refined atmosphere of Great Scotland Yard\, this masterclass is a journey into the world of whisky craftsmanship\, blending tradition with modern flair. Discover the secrets behind The Whiskymaker’s Reserve No.5\, a whisky known for its rich layers of flavor and complexity. \nGuided by expert distillers from The Lakes\, you’ll learn how to identify the nuances of each pour\, explore the delicate balance of complementary and contrasting flavors\, and uncover the artistry that goes into every bottle. From understanding the intricacies of aging to crafting your own unique whisky cocktails\, this immersive experience is perfect for those who appreciate the finer things in life. \nRaise a glass and savor the exceptional—an unforgettable evening of whisky\, conversation\, and camaraderie awaits. \nBook Now
URL:https://hospitalitytitans.co.uk/event/whisky-masterclass/
LOCATION:Sibin\, Great Scotland Yard Hotel
ATTACH;FMTTYPE=image/jpeg:https://hospitalitytitans.co.uk/wp-content/uploads/2024/11/WhatsApp-Image-2024-11-19-at-14.37.32.jpeg
ORGANIZER;CN="Hospitality Titans":MAILTO:membership@hospitalitytitans.co.uk
END:VEVENT
END:VCALENDAR