BEGIN:VCALENDAR
VERSION:2.0
PRODID:-//Hospitality Titans - ECPv6.15.17.1//NONSGML v1.0//EN
CALSCALE:GREGORIAN
METHOD:PUBLISH
X-ORIGINAL-URL:https://hospitalitytitans.co.uk
X-WR-CALDESC:Events for Hospitality Titans
REFRESH-INTERVAL;VALUE=DURATION:PT1H
X-Robots-Tag:noindex
X-PUBLISHED-TTL:PT1H
BEGIN:VTIMEZONE
TZID:Europe/London
BEGIN:DAYLIGHT
TZOFFSETFROM:+0000
TZOFFSETTO:+0100
TZNAME:BST
DTSTART:20230326T010000
END:DAYLIGHT
BEGIN:STANDARD
TZOFFSETFROM:+0100
TZOFFSETTO:+0000
TZNAME:GMT
DTSTART:20231029T010000
END:STANDARD
BEGIN:DAYLIGHT
TZOFFSETFROM:+0000
TZOFFSETTO:+0100
TZNAME:BST
DTSTART:20240331T010000
END:DAYLIGHT
BEGIN:STANDARD
TZOFFSETFROM:+0100
TZOFFSETTO:+0000
TZNAME:GMT
DTSTART:20241027T010000
END:STANDARD
BEGIN:DAYLIGHT
TZOFFSETFROM:+0000
TZOFFSETTO:+0100
TZNAME:BST
DTSTART:20250330T010000
END:DAYLIGHT
BEGIN:STANDARD
TZOFFSETFROM:+0100
TZOFFSETTO:+0000
TZNAME:GMT
DTSTART:20251026T010000
END:STANDARD
END:VTIMEZONE
BEGIN:VEVENT
DTSTART;TZID=Europe/London:20241008T120000
DTEND;TZID=Europe/London:20241008T160000
DTSTAMP:20260422T174933
CREATED:20240719T154141Z
LAST-MODIFIED:20240926T085052Z
UID:20000107-1728388800-1728403200@hospitalitytitans.co.uk
SUMMARY:Hospitality Titans X Table Talk Foundation Dining Experience
DESCRIPTION:Indulge in an unforgettable evening of culinary excellence and heartfelt purpose at Bentley’s Oyster Bar & Grill London\, as Hospitality Titans partners with the incredible Table Talk Foundation for an extraordinary dining experience. 🍴🎊 \nPrepare to embark on a culinary journey through a 6-course tasting menu\, each dish a masterpiece crafted to perfection and paired with exquisite wines. This luxurious dining experience not only delights the senses but also supports a noble cause. 🍴🍷 \nThe Table Talk Foundation is dedicated to fostering a brighter future by empowering children through food education and hospitality industry insights. By partnering with this remarkable charity\, we aim to: Inspire Future Generations\, Promote Health and Well-being and Support Local Communities. 🤝 \nJoin us for an evening of luxury delights and meaningful impact. Secure your place at this exclusive event and be part of a movement that blends fine dining with a mission to create a healthier\, happier future for our children. 💫 We look forward to welcoming you to an evening where every bite and every sip supports a brighter tomorrow. 🌟
URL:https://hospitalitytitans.co.uk/event/hospitality-titans-x-table-talk-foundation-dining-experience/
LOCATION:Bentley’s Oyster Bar & Grill\, 11 – 15 Swallow Street\, London\, W1B 4DG\, United Kingdom
ATTACH;FMTTYPE=image/png:https://hospitalitytitans.co.uk/wp-content/uploads/2024/07/Copy-of-October-8th-Drinks-Sponsor.png
ORGANIZER;CN="Hospitality Titans":MAILTO:membership@hospitalitytitans.co.uk
END:VEVENT
BEGIN:VEVENT
DTSTART;TZID=Europe/London:20241018T190000
DTEND;TZID=Europe/London:20241018T203000
DTSTAMP:20260422T174933
CREATED:20241015T110803Z
LAST-MODIFIED:20241015T112408Z
UID:20000113-1729278000-1729283400@hospitalitytitans.co.uk
SUMMARY:Andaz Wellness Series: Adam Husler x Carly Grace
DESCRIPTION:Hospitality Titans members get 50% off for up to 10 ticket purchases! Get your exclusive tickets for this Friday here. \nTreat yourself to an evening of unlocking the body and unwinding the mind\, in the spectacular 1901 space of the 5 star Andaz Hotel. The evening will kick off with Adam Husler\, guiding you though a slow vinyasa practice designed to release parts of the body many of us experience significant tightness and restriction. Expect deep stretching\, mindful mobility and a grounding meditation. \nFollowing the yoga session your body will be open and ready to receive; you will lie down and Carly will guide you into a deep space of relaxation. You will then be bathed in the soothing and pure sounds of the Alchemy Crystal Bowls\, supporting you to release tension\, rest the mind and let go. In this restful space the body’s innate wisdom can recharge and renew. Supporting you to feel rejuvenated\, clear\, grounded and calm. \nHospitality Titans members get 50% off for up to 10 ticket purchases! Get your exclusive tickets now for this Friday by using this link: Get Tickets
URL:https://hospitalitytitans.co.uk/event/andaz-wellness-series-adam-husler-x-carly-grace/
LOCATION:Andaz London London Liverpool Street\, 40 Liverpool St\, London\, EC2M 7QN
ATTACH;FMTTYPE=image/jpeg:https://hospitalitytitans.co.uk/wp-content/uploads/2024/10/https___cdn.evbuc_.com_images_848453869_408569657857_1_original.jpeg
ORGANIZER;CN="Hospitality Titans":MAILTO:membership@hospitalitytitans.co.uk
END:VEVENT
BEGIN:VEVENT
DTSTART;TZID=Europe/London:20241023T090000
DTEND;TZID=Europe/London:20241023T110000
DTSTAMP:20260422T174933
CREATED:20240818T092050Z
LAST-MODIFIED:20241014T095123Z
UID:20000109-1729674000-1729681200@hospitalitytitans.co.uk
SUMMARY:Improving the Customer Journey: Enhancing the Delivery Experience
DESCRIPTION:Join us for October’s Titans Talk\, in partnership with Lightspeed and UberDirect\, for an exclusive morning at the vibrant Kerb in Seven Dials Market\, Covent Garden\, for an engaging discussion on Improving the Customer Journey: Enhancing the Delivery Experience. See you there! \nWe’re extremely excited to announce that there will be mouthwatering breakfast offerings available at the event\, brought to you by Mother Flipper and Lucky’s Hot Chicken\, be sure to start your morning right! \nKeep an eye on our socials as we reveal our distinguished panel of industry experts. Don’t miss this opportunity to connect\, learn\, and elevate your business with the future of hospitality technology. \nTickets are free for this event! Not a member? Join today & start your 30 day free trial.
URL:https://hospitalitytitans.co.uk/event/pioneering-tech-in-hospitality-from-reservation-to-revenue/
LOCATION:Kerb in Seven Dials Market\, Seven Dials Market\, Earlham St\, London\, WC2H 9LX\, United Kingdom
ATTACH;FMTTYPE=image/png:https://hospitalitytitans.co.uk/wp-content/uploads/2024/08/Titans-Talk-Promos-8-1.png
ORGANIZER;CN="Hospitality Titans":MAILTO:membership@hospitalitytitans.co.uk
END:VEVENT
END:VCALENDAR