BEGIN:VCALENDAR
VERSION:2.0
PRODID:-//Hospitality Titans - ECPv6.15.17.1//NONSGML v1.0//EN
CALSCALE:GREGORIAN
METHOD:PUBLISH
X-WR-CALNAME:Hospitality Titans
X-ORIGINAL-URL:https://hospitalitytitans.co.uk
X-WR-CALDESC:Events for Hospitality Titans
REFRESH-INTERVAL;VALUE=DURATION:PT1H
X-Robots-Tag:noindex
X-PUBLISHED-TTL:PT1H
BEGIN:VTIMEZONE
TZID:Europe/London
BEGIN:DAYLIGHT
TZOFFSETFROM:+0000
TZOFFSETTO:+0100
TZNAME:BST
DTSTART:20220327T010000
END:DAYLIGHT
BEGIN:STANDARD
TZOFFSETFROM:+0100
TZOFFSETTO:+0000
TZNAME:GMT
DTSTART:20221030T010000
END:STANDARD
BEGIN:DAYLIGHT
TZOFFSETFROM:+0000
TZOFFSETTO:+0100
TZNAME:BST
DTSTART:20230326T010000
END:DAYLIGHT
BEGIN:STANDARD
TZOFFSETFROM:+0100
TZOFFSETTO:+0000
TZNAME:GMT
DTSTART:20231029T010000
END:STANDARD
BEGIN:DAYLIGHT
TZOFFSETFROM:+0000
TZOFFSETTO:+0100
TZNAME:BST
DTSTART:20240331T010000
END:DAYLIGHT
BEGIN:STANDARD
TZOFFSETFROM:+0100
TZOFFSETTO:+0000
TZNAME:GMT
DTSTART:20241027T010000
END:STANDARD
END:VTIMEZONE
BEGIN:VEVENT
DTSTART;TZID=Europe/London:20230418T183000
DTEND;TZID=Europe/London:20230418T213000
DTSTAMP:20260422T145127
CREATED:20230307T142850Z
LAST-MODIFIED:20240628T103148Z
UID:20000070-1681842600-1681853400@hospitalitytitans.co.uk
SUMMARY:Hi-tech vs Hi-touch
DESCRIPTION:Hi-tech vs Hi-touch\, hosted by Michelle Moreno \nDate: 18th April 23 \nTimes: 6:30pm – 9:30pm \nVenue: Sun Street Hotel \nPanel: \n\nAnneka Brooks\, Founder at Anneka Brooks Consulting\nGeorgie Parrott\, GM at Hawksmoor Guildhall\nAnna Rasmussen\, founder of app Openblend – supporting tech-based coaching\nJonatan Marc Rasmussen\, founder of the app All Gravy – helping hospitality teams with financial wellness.\n\n 
URL:https://hospitalitytitans.co.uk/event/hi-tech-vs-hi-touch/
LOCATION:Sun Street Hotel\, 5-15 Sun Street\, London\, London\, EC2A 2EP\, United Kingdom
ATTACH;FMTTYPE=image/jpeg:https://hospitalitytitans.co.uk/wp-content/uploads/2023/03/DSC06270-min-1-scaled-1.jpg
ORGANIZER;CN="Hospitality Titans":MAILTO:membership@hospitalitytitans.co.uk
END:VEVENT
END:VCALENDAR