BEGIN:VCALENDAR
VERSION:2.0
PRODID:-//Hospitality Titans - ECPv6.15.17.1//NONSGML v1.0//EN
CALSCALE:GREGORIAN
METHOD:PUBLISH
X-WR-CALNAME:Hospitality Titans
X-ORIGINAL-URL:https://hospitalitytitans.co.uk
X-WR-CALDESC:Events for Hospitality Titans
REFRESH-INTERVAL;VALUE=DURATION:PT1H
X-Robots-Tag:noindex
X-PUBLISHED-TTL:PT1H
BEGIN:VTIMEZONE
TZID:Europe/London
BEGIN:DAYLIGHT
TZOFFSETFROM:+0000
TZOFFSETTO:+0100
TZNAME:BST
DTSTART:20250330T010000
END:DAYLIGHT
BEGIN:STANDARD
TZOFFSETFROM:+0100
TZOFFSETTO:+0000
TZNAME:GMT
DTSTART:20251026T010000
END:STANDARD
BEGIN:DAYLIGHT
TZOFFSETFROM:+0000
TZOFFSETTO:+0100
TZNAME:BST
DTSTART:20260329T010000
END:DAYLIGHT
BEGIN:STANDARD
TZOFFSETFROM:+0100
TZOFFSETTO:+0000
TZNAME:GMT
DTSTART:20261025T010000
END:STANDARD
BEGIN:DAYLIGHT
TZOFFSETFROM:+0000
TZOFFSETTO:+0100
TZNAME:BST
DTSTART:20270328T010000
END:DAYLIGHT
BEGIN:STANDARD
TZOFFSETFROM:+0100
TZOFFSETTO:+0000
TZNAME:GMT
DTSTART:20271031T010000
END:STANDARD
END:VTIMEZONE
BEGIN:VEVENT
DTSTART;TZID=Europe/London:20260702T130000
DTEND;TZID=Europe/London:20260702T160000
DTSTAMP:20260424T104332
CREATED:20260423T140737Z
LAST-MODIFIED:20260423T140737Z
UID:20000173-1782997200-1783008000@hospitalitytitans.co.uk
SUMMARY:Directors’ Lunch
DESCRIPTION:Join us for an exclusive Directors’ Lunch\, bringing together hospitality leaders for an afternoon of exceptional food\, thoughtful conversation\, and meaningful industry connections. \n📅 Date: Thursday\, 2 July 2026\n⏰ Time: 1:00 PM – 4:00 PM\n📍 Location: Venue TBC \nHosted in partnership with Workforce\, this intimate gathering is designed to foster collaboration\, encourage open dialogue\, and provide a space for senior professionals to exchange insights on the opportunities and challenges shaping the hospitality industry. \nSet in a refined setting\, the lunch offers a valuable opportunity to step away from day-to-day operations and engage in meaningful conversations with fellow industry leaders. \nAttendance is limited to ensure the lunch remains relaxed\, engaging\, and valuable for everyone attending. \nSpaces are limited\, so secure your place now.
URL:https://hospitalitytitans.co.uk/event/directors-lunch-5/
ATTACH;FMTTYPE=image/png:https://hospitalitytitans.co.uk/wp-content/uploads/2026/04/july-2nd-directors-lunch-.png
ORGANIZER;CN="Hospitality Titans":MAILTO:membership@hospitalitytitans.co.uk
END:VEVENT
BEGIN:VEVENT
DTSTART;TZID=Europe/London:20260708T160000
DTEND;TZID=Europe/London:20260708T190000
DTSTAMP:20260424T104332
CREATED:20251216T131743Z
LAST-MODIFIED:20251216T132558Z
UID:20000149-1783526400-1783537200@hospitalitytitans.co.uk
SUMMARY:Speed Wine Tasting
DESCRIPTION:Speed Wine Tasting\nJoin us for an exclusive Speed Wine Tasting experience\, bringing together industry professionals for an afternoon of exceptional wines\, fast-paced tastings\, and meaningful connections. \n📅 Date: Wednesday\, 8 July 2026⏰ Time: 4:00 PM – 7:00 PM📍 Location: Washhouse Manchester\, 19 Shudehill\, Greater Manchester\, M4 2AF \nIn partnership with Enotria\, this event is designed to inspire\, connect\, and celebrate the best of the hospitality industry. \nFurther details and registration coming soon. \nMark your calendar — you won’t want to miss this.
URL:https://hospitalitytitans.co.uk/event/speed-wine-tasting-4/
LOCATION:Washhouse Manchester\, 19 Shudehill\, Manchester\, M4 2AF\, United Kingdom
ATTACH;FMTTYPE=image/png:https://hospitalitytitans.co.uk/wp-content/uploads/2025/12/Hospitality-Titans-Instagram-posts-16.png
END:VEVENT
BEGIN:VEVENT
DTSTART;TZID=Europe/London:20260826T180000
DTEND;TZID=Europe/London:20260826T230000
DTSTAMP:20260424T104332
CREATED:20260219T115458Z
LAST-MODIFIED:20260409T091442Z
UID:20000157-1787767200-1787785200@hospitalitytitans.co.uk
SUMMARY:Titans 6th Birthday Celebration
DESCRIPTION:Titans 6th Birthday Celebration \nJoin us as we celebrate six years of Hospitality Titans with an evening dedicated to connection\, community\, and industry camaraderie. \n📅 Date: 26 August⏰ Time: 6-11pm📍 Location: Kerb Social Club\, Spitalfields\, London \nBringing together members\, partners\, and friends from across the hospitality sector\, this special celebration is an opportunity to recognise the relationships\, collaborations\, and shared achievements that have shaped our growing community. \nExpect a lively atmosphere\, great conversation\, and an evening of celebration with industry peers. \nSave the date and join us to celebrate.
URL:https://hospitalitytitans.co.uk/event/titans-6th-birthday-celebration/
LOCATION:Kerb Social Club\, SP1A and SP1B\, 4 Horner Square\, London\, E1 6EW
ATTACH;FMTTYPE=image/png:https://hospitalitytitans.co.uk/wp-content/uploads/2026/02/6th-birthfay-.png
END:VEVENT
END:VCALENDAR