BEGIN:VCALENDAR
VERSION:2.0
PRODID:-//Hospitality Titans - ECPv6.15.17.1//NONSGML v1.0//EN
CALSCALE:GREGORIAN
METHOD:PUBLISH
X-WR-CALNAME:Hospitality Titans
X-ORIGINAL-URL:https://hospitalitytitans.co.uk
X-WR-CALDESC:Events for Hospitality Titans
REFRESH-INTERVAL;VALUE=DURATION:PT1H
X-Robots-Tag:noindex
X-PUBLISHED-TTL:PT1H
BEGIN:VTIMEZONE
TZID:Europe/London
BEGIN:DAYLIGHT
TZOFFSETFROM:+0000
TZOFFSETTO:+0100
TZNAME:BST
DTSTART:20230326T010000
END:DAYLIGHT
BEGIN:STANDARD
TZOFFSETFROM:+0100
TZOFFSETTO:+0000
TZNAME:GMT
DTSTART:20231029T010000
END:STANDARD
BEGIN:DAYLIGHT
TZOFFSETFROM:+0000
TZOFFSETTO:+0100
TZNAME:BST
DTSTART:20240331T010000
END:DAYLIGHT
BEGIN:STANDARD
TZOFFSETFROM:+0100
TZOFFSETTO:+0000
TZNAME:GMT
DTSTART:20241027T010000
END:STANDARD
BEGIN:DAYLIGHT
TZOFFSETFROM:+0000
TZOFFSETTO:+0100
TZNAME:BST
DTSTART:20250330T010000
END:DAYLIGHT
BEGIN:STANDARD
TZOFFSETFROM:+0100
TZOFFSETTO:+0000
TZNAME:GMT
DTSTART:20251026T010000
END:STANDARD
END:VTIMEZONE
BEGIN:VEVENT
DTSTART;TZID=Europe/London:20241018T190000
DTEND;TZID=Europe/London:20241018T203000
DTSTAMP:20260422T191803
CREATED:20241015T110803Z
LAST-MODIFIED:20241015T112408Z
UID:20000113-1729278000-1729283400@hospitalitytitans.co.uk
SUMMARY:Andaz Wellness Series: Adam Husler x Carly Grace
DESCRIPTION:Hospitality Titans members get 50% off for up to 10 ticket purchases! Get your exclusive tickets for this Friday here. \nTreat yourself to an evening of unlocking the body and unwinding the mind\, in the spectacular 1901 space of the 5 star Andaz Hotel. The evening will kick off with Adam Husler\, guiding you though a slow vinyasa practice designed to release parts of the body many of us experience significant tightness and restriction. Expect deep stretching\, mindful mobility and a grounding meditation. \nFollowing the yoga session your body will be open and ready to receive; you will lie down and Carly will guide you into a deep space of relaxation. You will then be bathed in the soothing and pure sounds of the Alchemy Crystal Bowls\, supporting you to release tension\, rest the mind and let go. In this restful space the body’s innate wisdom can recharge and renew. Supporting you to feel rejuvenated\, clear\, grounded and calm. \nHospitality Titans members get 50% off for up to 10 ticket purchases! Get your exclusive tickets now for this Friday by using this link: Get Tickets
URL:https://hospitalitytitans.co.uk/event/andaz-wellness-series-adam-husler-x-carly-grace/
LOCATION:Andaz London London Liverpool Street\, 40 Liverpool St\, London\, EC2M 7QN
ATTACH;FMTTYPE=image/jpeg:https://hospitalitytitans.co.uk/wp-content/uploads/2024/10/https___cdn.evbuc_.com_images_848453869_408569657857_1_original.jpeg
ORGANIZER;CN="Hospitality Titans":MAILTO:membership@hospitalitytitans.co.uk
END:VEVENT
END:VCALENDAR